BEGIN:VCALENDAR
VERSION:2.0
PRODID:-//eventon.com NONSGML v1.0//EN
CALSCALE:GREGORIAN
METHOD:PUBLISH
BEGIN:VEVENT
UID:69e9d8af004f6
DTSTAMP:20260423T083039Z
DTSTART:20251030T183000Z
DTEND:20251030T203000Z
LOCATION:Triangle Cinemas at Six Forks 9500 Forum Dr. Raleigh\,  NC 27615
SUMMARY:Movie Night
DESCRIPTION:Join us for a spooky movie night at Triangle Cinemas at Six For
 ks (9500 Forum Dr\,  Raleigh\,  NC 27615) at 6:30PM! Bring the family\,  gr
 ab some snacks\,  and enjoy a fun\,  fright-free film together.\nhttps://ad
 vancechc.org/events/movie-night/
URL:https://advancechc.org/events/movie-night/
END:VEVENT
END:VCALENDAR