BEGIN:VCALENDAR
VERSION:2.0
PRODID:-//eventon.com NONSGML v1.0//EN
CALSCALE:GREGORIAN
METHOD:PUBLISH
BEGIN:VEVENT
UID:69eb271a2c467
DTSTAMP:20260424T081730Z
DTSTART:20250320T183000Z
DTEND:20250320T193000Z
LOCATION:Southeast Raleigh YMCA 1436 Rock Quarry Rd\,  Raleigh\,  NC 27610
SUMMARY:Power Hour: Food Demonstration With EatWell Exchange
DESCRIPTION:Eating well is key to maintaining a healthy body and mind. Join
  us for an exciting and informative session\,  where you&#8217;ll see how t
 o prepare nutritious meals that fuel your body and support overall well-bei
 ng. You’ll learn the importance of balanced nutrition\,  discover healthy
  food swaps\,  and gain practical tips[..]\nhttps://advancechc.org/events/p
 ower-hour-food-demonstration-with-eatwell-exchange/
URL:https://advancechc.org/events/power-hour-food-demonstration-with-eatwell-exchange/
END:VEVENT
END:VCALENDAR